BEGIN:VCALENDAR
VERSION:2.0
PRODID:-//ChamberMaster//Event Calendar 2.0//EN
METHOD:PUBLISH
X-PUBLISHED-TTL:P3D
REFRESH-INTERVAL:P3D
CALSCALE:GREGORIAN
BEGIN:VEVENT
DTSTART:20091017T123000Z
DTEND:20091017T170000Z
X-MICROSOFT-CDO-ALLDAYEVENT:FALSE
SUMMARY:''Shred IT'' identify theft security day
DESCRIPTION:The Better Business Bureau of Central N.C. will shred documents delivered by businesses or iindividuals for no charge. (Limit of two bankers' boxes per business delivery).
X-ALT-DESC;FMTTYPE=text/html:The Better Business Bureau of Central N.C. will shred documents delivered by businesses or iindividuals for no charge. (Limit of two bankers' boxes per business delivery).
LOCATION:Parking lot of 3608 W. Friendly Ave. (Friendly-Holden Building). Enter from West Friendly Avenue.
UID:e.111.1248
SEQUENCE:3
DTSTAMP:20260424T233633Z
URL:https://business.reidsvillechamber.org/events/details/shred-it-identify-theft-security-day-10-17-2009-1248
END:VEVENT

END:VCALENDAR
