BEGIN:VCALENDAR
VERSION:2.0
PRODID:-//ChamberMaster//Event Calendar 2.0//EN
METHOD:PUBLISH
X-PUBLISHED-TTL:P3D
REFRESH-INTERVAL:P3D
CALSCALE:GREGORIAN
BEGIN:VEVENT
DTSTART:20111108T180000Z
DTEND:20111108T190000Z
X-MICROSOFT-CDO-ALLDAYEVENT:FALSE
SUMMARY:Smoking Cessation Classes
DESCRIPTION:Annie Penn Hospital will hold the next series of free smoking cessation classes on November 1\,3\,8\, 10 from 1:00 p.m. until 2:00 p.m. Sessions will be held at Annie Penn Hospital in the Cardiac Rehabilitation classroom on second floor. Participants should attend all four sessions. To register\, please call 951-4509.
X-ALT-DESC;FMTTYPE=text/html:<span style="font-size: 12pt\; font-family: calibri\; mso-fareast-font-family: 'times new roman'\; mso-bidi-font-family: 'courier new'\; mso-ansi-language: en-us\; mso-fareast-language: en-us\; mso-bidi-language: ar-sa"><font color="#000000" face="Times New Roman">Annie Penn Hospital will hold the next series of free smoking cessation classes on November 1\,3\,8\, 10 from 1:00 p.m. until 2:00 p.m. Sessions will be held at Annie Penn Hospital in the Cardiac Rehabilitation classroom on second floor. Participants should attend all four sessions. To register\, please call 951-4509.</font></span>
LOCATION:Annie Penn Hospital
UID:e.111.2049
SEQUENCE:3
DTSTAMP:20260421T192412Z
URL:https://business.reidsvillechamber.org/events/details/smoking-cessation-classes-11-08-2011-2049
END:VEVENT

END:VCALENDAR
