BEGIN:VCALENDAR
VERSION:2.0
PRODID:-//ChamberMaster//Event Calendar 2.0//EN
METHOD:PUBLISH
X-PUBLISHED-TTL:P3D
REFRESH-INTERVAL:P3D
CALSCALE:GREGORIAN
BEGIN:VEVENT
DTSTART:20100320T230000Z
DTEND:20100321T030000Z
X-MICROSOFT-CDO-ALLDAYEVENT:FALSE
SUMMARY:Snowflake Ball-Free Clinic of Rockingham County
DESCRIPTION:The Free Clinic of Rockingham County\, Inc& Chinqua Penn PlantationPresentThe Snowflake Ballan evening of elegance and caring Cocktail Buffet\, Dancing\, Big Band Orchestra\, and Silent Auction beneath a grand tent (with a delux heat system) on the grounds of historic Chinqua-penn Plantation Saturday\, March 20\, 20107-11 o'clock in the eveningBlack Tie Optional All proceeds to beenfit the Free Clinic of Rockingham County\, Inc.Tickets are limited and on sale now!$50 per person ($30 tax deductible)& can only be purchased by callingMarie Bryan or Farrah Darnell627-1127 Snowflake Ball Sponsors also available
X-ALT-DESC;FMTTYPE=text/html:<div style="text-align: center"><span style="font-family: Verdana"><span style="font-size: small">The Free Clinic of Rockingham County\, Inc</span></span></div><div style="text-align: center"><span style="font-family: Verdana"><span style="font-size: small">&amp\; Chinqua Penn Plantation</span></span></div><div style="text-align: center"><span style="font-family: Verdana"><span style="font-size: small">Present</span></span></div><div style="text-align: center"><span style="font-family: Verdana"><span style="font-size: small"><span style="font-family: Comic Sans MS"><span style="font-size: large"><strong><em>The Snowflake Ball</em></strong></span></span></span></span></div><div style="text-align: center"><span style="font-family: Verdana"><span style="font-size: small"><span style="font-family: Comic Sans MS"><span style="font-size: large"><strong><em><span style="font-size: xx-small">an evening of elegance and caring</span></em></strong></span></span></span></span></div><div style="text-align: center">&nbsp\;</div><div style="text-align: center"><span style="font-family: Verdana"><span style="font-size: small"><span style="font-family: Comic Sans MS"><span style="font-size: large"><span style="font-size: xx-small"><span style="font-size: small">Cocktail Buffet\, Dancing\, Big Band Orchestra\, and Silent Auction beneath a grand tent (with a delux heat system) on the grounds of historic Chinqua-penn Plantation</span></span></span></span></span></span></div><div style="text-align: center">&nbsp\;</div><div style="text-align: center"><span style="font-family: Verdana"><span style="font-size: small"><span style="font-family: Comic Sans MS"><span style="font-size: large"><span style="font-size: xx-small"><span style="font-size: small"><span style="font-size: medium">Saturday\, March 20\, 2010</span></span></span></span></span></span></span></div><div style="text-align: center"><span style="font-family: Verdana"><span style="font-size: small"><span style="font-family: Comic Sans MS"><span style="font-size: large"><span style="font-size: xx-small"><span style="font-size: small"><span style="font-size: medium">7-11 o'clock in the evening</span></span></span></span></span></span></span></div><div style="text-align: center"><span style="font-family: Verdana"><span style="font-size: small"><span style="font-family: Comic Sans MS"><span style="font-size: large"><span style="font-size: xx-small"><span style="font-size: small"><span style="font-size: medium">Black Tie Optional</span></span></span></span></span></span></span></div><div style="text-align: center">&nbsp\;</div><div style="text-align: center"><span style="font-family: Verdana"><span style="font-size: small"><span style="font-family: Comic Sans MS"><span style="font-size: large"><span style="font-size: xx-small"><span style="font-size: small"><span style="font-size: medium">All proceeds to beenfit the Free Clinic of Rockingham County\, Inc.</span></span></span></span></span></span></span></div><div style="text-align: center"><span style="font-family: Verdana"><span style="font-size: small"><span style="font-family: Comic Sans MS"><span style="font-size: large"><span style="font-size: xx-small"><span style="font-size: small"><span style="font-size: medium">Tickets are limited and on sale now!</span></span></span></span></span></span></span></div><div style="text-align: center"><span style="font-family: Verdana"><span style="font-size: small"><span style="font-family: Comic Sans MS"><span style="font-size: large"><span style="font-size: xx-small"><span style="font-size: small"><span style="font-size: medium">$50 per person ($30 tax deductible)</span></span></span></span></span></span></span></div><div style="text-align: center"><span style="font-family: Verdana"><span style="font-size: small"><span style="font-family: Comic Sans MS"><span style="font-size: large"><span style="font-size: xx-small"><span style="font-size: small"><span style="font-size: medium">&amp\; can only be purchased by calling</span></span></span></span></span></span></span></div><div style="text-align: center"><span style="font-family: Verdana"><span style="font-size: small"><span style="font-family: Comic Sans MS"><span style="font-size: large"><span style="font-size: xx-small"><span style="font-size: small"><span style="font-size: medium">Marie Bryan or Farrah Darnell</span></span></span></span></span></span></span></div><div style="text-align: center"><span style="font-family: Verdana"><span style="font-size: small"><span style="font-family: Comic Sans MS"><span style="font-size: large"><span style="font-size: xx-small"><span style="font-size: small"><span style="font-size: medium">627-1127</span></span></span></span></span></span></span></div><div style="text-align: center">&nbsp\;</div><div style="text-align: center"><span style="font-family: Verdana"><span style="font-size: small"><span style="font-family: Comic Sans MS"><span style="font-size: large"><span style="font-size: xx-small"><span style="font-size: small"><span style="font-size: medium">Snowflake Ball Sponsors also available</span></span></span></span></span></span></span></div><div style="text-align: center">&nbsp\;</div>
LOCATION:
UID:e.111.1327
SEQUENCE:3
DTSTAMP:20260424T152334Z
URL:https://business.reidsvillechamber.org/events/details/snowflake-ball-free-clinic-of-rockingham-county-03-20-2010-1327
END:VEVENT

END:VCALENDAR
