BEGIN:VCALENDAR
VERSION:2.0
PRODID:-//ChamberMaster//Event Calendar 2.0//EN
METHOD:PUBLISH
X-PUBLISHED-TTL:P3D
REFRESH-INTERVAL:P3D
CALSCALE:GREGORIAN
BEGIN:VEVENT
DTSTART:20111001T220000Z
DTEND:20111002T030000Z
X-MICROSOFT-CDO-ALLDAYEVENT:FALSE
SUMMARY:Southern Nights-sweet tea & spirits
DESCRIPTION:Southern Nights Sweet Tea & Spirits\n\n\n\n\n\n\n\nClick Here for flyer
X-ALT-DESC;FMTTYPE=text/html:<a href="http://cloud.chambermaster.com/userfiles/UserFiles/chambers/111/File/SouthernNights10-1-20112.pdf"><br />\n<span style="font-size: 16px\;">Southern Nights Sweet Tea &amp\; Spirits</span><br />\n<br />\n<br />\n<br />\nClick Here for flyer</a>&nbsp\;<br />\n<br />\n
LOCATION:Betsy-Jeff Penn 4-H Educational Center 804 Cedar Lane Reidsville\, NC
UID:e.111.2032
SEQUENCE:3
DTSTAMP:20260423T084431Z
URL:https://business.reidsvillechamber.org/events/details/southern-nights-sweet-tea-spirits-10-01-2011-2032
END:VEVENT

END:VCALENDAR
