BEGIN:VCALENDAR
VERSION:2.0
PRODID:-//ChamberMaster//Event Calendar 2.0//EN
METHOD:PUBLISH
X-PUBLISHED-TTL:P3D
REFRESH-INTERVAL:P3D
CALSCALE:GREGORIAN
BEGIN:VEVENT
DTSTART:20101113T230000Z
DTEND:20101114T020000Z
X-MICROSOFT-CDO-ALLDAYEVENT:FALSE
SUMMARY:Sreening of the new Mandie movie @ Chinqua Penn
DESCRIPTION:Mandie and The Cherokee Treasure film screening\n\n	at Chinqua Penn Plantation\n\n	on the lawn under the stars.\n\n	Saturday\, November 13\, 2010 at 6:00 pm \n\n	 \n\n	   Mandie and the Cherokee Treasure (rated G) is based on the popular book by Lois Glayds Leppard and is the second of the Mandie movies to be filmed on location at Chinqua Penn Plantation.    Starring Lexi Johnson and Hayley Mills\, this family movie will delight young and old as they follow Mandie on her harrowing adventure by train and through the mountains.\n\n	  This screening offers families the opportunity to tour the house in the afternoon to experience the locations in the movie first hand\, before snuggling up on the Clock Tower Hill to watch the movie under the stars on the big screen.   Cast members will be in attendance.  Packages for families (2 adults and up to 4 children) to tour the house and see the movie are $40 in advance and $50 at the door.  For the movie only the family rate is $20 in advance $25 at the door.  For the movie only individual adults tickets are $6\; youths (6-15) $4\; kids under 5 are free. \n\n	  Tours of the mansion will begin at 3 pm and 4 pm.  The movie will begin promptly at 6 pm.  Grilled food\, popcorn\, hot cocoa and other beverages will be available for purchase.  Guests are encouraged to bring their own lawn chairs and blankets.   \n\n	 \n\n	For more information and advance tickets call 336-349-4576 or visit chinquapenn.com.   For more information on the movie\, visit www.mandiemovies.com.
X-ALT-DESC;FMTTYPE=text/html:<div style="margin: 0px\; text-align: center\;">\n	<span style="font-size: 18px\;"><span style="color: rgb(0\, 0\, 205)\;"><em><strong>Mandie and The Cherokee Treasure</strong></em></span> film screening<br />\n	at <span style="color: rgb(255\, 0\, 0)\;">Chinqua Penn Plantation</span><br />\n	on the lawn under the stars.</span><br />\n	<span style="font-size: 16px\;"><strong><span style="background-color: rgb(255\, 255\, 0)\;">Saturday\, November 13\, 2010 at 6:00 pm </span></strong></span></div>\n<div style="margin: 0px\;">\n	&nbsp\;</div>\n<div style="margin: 0px\;">\n	&nbsp\;&nbsp\;&nbsp\;<em><strong>Mandie and the Cherokee Treasure </strong></em>(rated G) is based on the popular book by Lois Glayds Leppard and is the second of the <em>Mandie</em> movies to be <strong>filmed on location at Chinqua Penn Plantation</strong>.&nbsp\; &nbsp\; Starring Lexi Johnson and Hayley Mills\, this family movie will delight young and old as they follow Mandie on her harrowing adventure by train and through the mountains.</div>\n<div style="margin: 0px\;">\n	&nbsp\; This screening offers families the opportunity to tour the house in the afternoon to experience the locations in the movie first hand\, before snuggling up on the Clock Tower Hill to watch the movie under the stars on the big screen.&nbsp\;&nbsp\;&nbsp\;Cast members will be in attendance.&nbsp\; <strong>Packages for families (2 adults and up to 4 children) to tour the house and see the movie are $40 in advance and $50 at the door.&nbsp\; For the movie only the family rate is $20 in advance $25 at the door.&nbsp\; For the movie only individual adults tickets are $6\; youths (6-15) $4\; kids under 5 are free.&nbsp\;</strong></div>\n<div style="margin: 0px\;">\n	&nbsp\; Tours of the mansion will begin at 3 pm and 4 pm.&nbsp\; <u>The movie will begin promptly at 6 pm</u>.&nbsp\; Grilled food\, popcorn\, hot cocoa and other beverages will be available for purchase.&nbsp\; Guests are encouraged to bring their own lawn chairs and blankets.&nbsp\;&nbsp\;&nbsp\;</div>\n<div style="min-height: 14px\; margin: 0px\;">\n	&nbsp\;</div>\n<div style="margin: 0px\;">\n	<span style="font-size: 14px\;"><em><strong>For more information and advance tickets</strong></em> call <strong>336-349-4576</strong> or visit<span style="font-weight: bold\;"> </span><strong>chinquapenn.com</strong>.&nbsp\;&nbsp\;&nbsp\;For more information on the movie\, visit <strong><a href="http://www.mandiemovies.com/" title="blocked::http://www.mandiemovies.com/">www.mandiemovies.com</a>.</strong></span></div>\n
LOCATION:
UID:e.111.1541
SEQUENCE:3
DTSTAMP:20260424T023256Z
URL:https://business.reidsvillechamber.org/events/details/sreening-of-the-new-mandie-movie-chinqua-penn-11-13-2010-1541
END:VEVENT

END:VCALENDAR
