BEGIN:VCALENDAR
VERSION:2.0
PRODID:-//ChamberMaster//Event Calendar 2.0//EN
METHOD:PUBLISH
X-PUBLISHED-TTL:P3D
REFRESH-INTERVAL:P3D
CALSCALE:GREGORIAN
BEGIN:VEVENT
DTSTART:20100421T160000Z
DTEND:20100421T173000Z
X-MICROSOFT-CDO-ALLDAYEVENT:FALSE
SUMMARY:Staff Appreciation Luncheon
DESCRIPTION:The Reidsville Chamber of CommerceAnnual Staff Appreciation LuncheonSponsored by Amcor Join us for a celebration of Professional Assistant's DayBring your entire staff and show them your appreciation  April 21\, 2010 noon-1:30 pm at Pennrose Park Country ClubAvante' of Reidsville presentsBarb Young\, who will lead us in a fun activity based on the FISH! Catch The Energy! Release the Potential!  philosophy.  We'll watch the popular video and brainstorm ways to create and maintain an invigorating environment at work and in our everyday activities.Reservations are requiredCall the Chamber at 349-8481 or click on the "Register Online" tab above
X-ALT-DESC;FMTTYPE=text/html:<div align="center"><span style="color: #993366"><span style="font-family: Comic Sans MS"><em><strong><font size="5">T</font></strong></em></span></span><span style="color: #993366"><span style="font-family: Comic Sans MS"><em><strong><font size="5">he Reidsville Chamber of Commerce</font></strong></em></span></span></div><div align="center"><span style="color: #993366"><span style="font-family: Comic Sans MS"><em><strong><font size="5">Annual Staff Appreciation Luncheon</font></strong></em></span></span></div><div align="center"><strong><span><span style="font-family: Comic Sans MS"><em><font size="5">Sponsored by Amcor</font></em></span></span></strong></div><div align="center">&nbsp\;</div><div align="center"><span style="font-size: medium"><font size="5">Join us for a celebration of Professional Assistant&rsquo\;s Day</font></span></div><div align="center"><span style="font-size: medium">Bring your entire staff and show them your appreciation&nbsp\;</span></div><div align="center">&nbsp\;</div><div align="center"><span style="font-size: medium">April 21\, 2010 noon-1:30 pm at Pennrose Park Country Club</span></div><div align="center"><span style="font-size: medium"><p class="MsoNormal"><span style="font-size: small"><span style="font-family: Tahoma">Avante&rsquo\; of Reidsville presents</span></span></p><p class="MsoNormal"><strong><span style="font-family: Tahoma">Barb Young\,&nbsp\;who&nbsp\;will lead us in a fun activity based on the FISH! Catch The Energy! Release the Potential!<sup>&reg\;</sup> philosophy.&nbsp\; We&rsquo\;ll watch the popular video and brainstorm ways to create and maintain an invigorating environment at work and in our everyday activities.</span></strong></p><p class="MsoNormal" style="text-align: left"><span style="font-family: Arial">Reservations are required</span></p><p class="MsoNormal" style="text-align: left">Call the Chamber at 349-8481 or click on the &quot\;Register Online&quot\; tab above</p></span></div>
LOCATION:Pennrose Park Country Club1622 Country Club Road
UID:e.111.1335
SEQUENCE:3
DTSTAMP:20260424T132147Z
URL:https://business.reidsvillechamber.org/events/details/staff-appreciation-luncheon-04-21-2010-1335
END:VEVENT

END:VCALENDAR
