BEGIN:VCALENDAR
VERSION:2.0
PRODID:-//ChamberMaster//Event Calendar 2.0//EN
METHOD:PUBLISH
X-PUBLISHED-TTL:P3D
REFRESH-INTERVAL:P3D
CALSCALE:GREGORIAN
BEGIN:VEVENT
DTSTART:20111118T123000Z
DTEND:20111118T143000Z
X-MICROSOFT-CDO-ALLDAYEVENT:FALSE
SUMMARY:State of Rockingham
DESCRIPTION:Please join The Business Journal\, Senator Phil Berger\, Dr. Michael Helmick\, Mr. Don Overton\, and your fellow community members for breakfast and a panel discussion about the state of Rockingham County. Registration required. \n\n\n	 \n\n	\n		To register please call 336-271-6539 or register online http://www.bizjournals.com/triad/event/54311\n\n		\n\n		Click Here for flyer
X-ALT-DESC;FMTTYPE=text/html:<div id="yui_3_2_0_1_1320932255394104">\n	<p align="center" class="yiv2099541151MsoNormal" id="yui_3_2_0_1_1320932255394103" style="text-align: center">\n		<span id="yui_3_2_0_1_1320932255394102" style="color: green\; font-size: 16pt">Please join The Business Journal\, Senator Phil Berger\, Dr. Michael Helmick\, Mr. Don Overton\, and your fellow community members for breakfast and a panel discussion about the state of <span class="yshortcuts" id="lw_1320932264_4">Rockingham County</span>. Registration required<em>. </em></span></p>\n</div>\n<p align="center" class="yiv2099541151MsoNormal" id="yui_3_2_0_1_1320932255394150" style="text-align: center\; margin-bottom: 12pt">\n	&nbsp\;</p>\n<div>\n	<p align="center" class="yiv2099541151MsoNormal" style="text-align: center">\n		<span style="color: green\; font-size: 16pt">To register please call <span class="yshortcuts" id="lw_1320932264_5">336-271-6539</span> or register online </span><a href="http://www.bizjournals.com/triad/event/54311">http://www.bizjournals.com/triad/event/54311</a><br />\n		<br />\n		<a href="http://cloud.chambermaster.com/userfiles/UserFiles/chambers/111/File/stateofrockingham.jpg">Click Here for flyer</a></p>\n</div>\n
LOCATION:Santana's at Oak Hill Golf and Event Center 436 East Stadium Drive\, Eden\, NC 27288
UID:e.111.2079
SEQUENCE:3
DTSTAMP:20260421T192705Z
URL:https://business.reidsvillechamber.org/events/details/state-of-rockingham-11-18-2011-2079
END:VEVENT

END:VCALENDAR
