BEGIN:VCALENDAR
VERSION:2.0
PRODID:-//ChamberMaster//Event Calendar 2.0//EN
METHOD:PUBLISH
X-PUBLISHED-TTL:P3D
REFRESH-INTERVAL:P3D
CALSCALE:GREGORIAN
BEGIN:VEVENT
DTSTART:20110607T170000Z
DTEND:20110616T180000Z
X-MICROSOFT-CDO-ALLDAYEVENT:FALSE
SUMMARY:Stop Smoking Program
DESCRIPTION:Annie Penn Hospital's next series of free "Fresh Start" stop smoking sessions will begin on June  7\,9\,14\,16\, from 1:00pm-2:00pm.  Sessions will be held at Annie Penn Hospital in the Cardiac Rehabilitation classroom.  You must attend all sessions.  To register\, please call 951-4509
X-ALT-DESC;FMTTYPE=text/html:<p>\n	Annie Penn Hospital&#39\;s next series of free &quot\;Fresh Start&quot\; stop smoking sessions will begin on June&nbsp\; 7\,9\,14\,16\, from 1:00pm-2:00pm.&nbsp\; Sessions will be held at Annie Penn Hospital in the Cardiac Rehabilitation classroom.&nbsp\; You must attend all sessions.&nbsp\; To register\, please call 951-4509<br />\n	&nbsp\;</p>\n
LOCATION:
UID:e.111.1932
SEQUENCE:3
DTSTAMP:20260423T151625Z
URL:https://business.reidsvillechamber.org/events/details/stop-smoking-program-06-07-2011-1932
END:VEVENT

END:VCALENDAR
