BEGIN:VCALENDAR
VERSION:2.0
PRODID:-//ChamberMaster//Event Calendar 2.0//EN
METHOD:PUBLISH
X-PUBLISHED-TTL:P3D
REFRESH-INTERVAL:P3D
CALSCALE:GREGORIAN
BEGIN:VEVENT
DTSTART;VALUE=DATE:20111029
DTEND;VALUE=DATE:20111030
TRANSP:TRANSPARENT
X-MICROSOFT-CDO-ALLDAYEVENT:TRUE
SUMMARY:Strike Out Breast Cancer
DESCRIPTION:Strike Out Breast Cancer\n\n	          Presented by         Reidsville Lanes                                                      Come help your community raise funds to help knock out this terrible disease\, which can affect us all. \n\n	Sponsor deadline October 1\, 2011\n\n	\n\n	Click Here for flyer
X-ALT-DESC;FMTTYPE=text/html:<p align="left">\n	&nbsp\;&nbsp\;<b><font size="7">&nbsp\;&nbsp\;&nbsp\; Strike Out Breast&nbsp\;Cancer<br />\n	&nbsp\;&nbsp\;&nbsp\;&nbsp\;&nbsp\;&nbsp\;&nbsp\;&nbsp\;&nbsp\; </font></b><font face="Mistral\,Mistral" size="6"><font face="Mistral\,Mistral" size="6">Presented by</font></font><b><font face="Arial\,Arial" size="7"><font face="Arial\,Arial" size="7">&nbsp\;&nbsp\;&nbsp\;&nbsp\;&nbsp\;&nbsp\;&nbsp\;&nbsp\; Reidsville&nbsp\;Lanes&nbsp\;&nbsp\;&nbsp\;</font></font></b><b><font face="Arial\,Arial" size="4"><font face="Arial\,Arial" size="4">&nbsp\;&nbsp\;&nbsp\;&nbsp\;&nbsp\;&nbsp\;&nbsp\;&nbsp\;&nbsp\;&nbsp\;&nbsp\;&nbsp\;&nbsp\;&nbsp\;&nbsp\;&nbsp\;&nbsp\;&nbsp\;&nbsp\;&nbsp\;&nbsp\;&nbsp\;&nbsp\;&nbsp\;&nbsp\;&nbsp\;&nbsp\;&nbsp\;&nbsp\;</font></font></b><b><font face="Arial\,Arial" size="6"><font face="Arial\,Arial" size="6">&nbsp\;&nbsp\;&nbsp\;&nbsp\;&nbsp\;&nbsp\;&nbsp\;&nbsp\;&nbsp\;&nbsp\;&nbsp\;&nbsp\;&nbsp\;&nbsp\;&nbsp\;&nbsp\;&nbsp\;</font></font></b><b><font face="Times New Roman\,Times New Roman" size="3"><font face="Times New Roman\,Times New Roman" size="3">&nbsp\;&nbsp\;&nbsp\;&nbsp\; </font></font></b><b><font face="Times New Roman\,Times New Roman" size="5"><font face="Times New Roman\,Times New Roman" size="5">Come help your community raise funds to help knock out this terrible disease\, which can affect us all. </font></font></b></p>\n<p align="left">\n	<b><u><font face="Times New Roman\,Times New Roman" size="5"><font face="Times New Roman\,Times New Roman" size="5">Sponsor deadline October 1\, 2011<br />\n	<br />\n	<a href="http://cloud.chambermaster.com/userfiles/UserFiles/chambers/111/File/strike%20out%20breast%20cancer%20flyer%2011-05-26.pdf">Click Here for flyer</a></font></font></u></b></p>\n<font face="Times New Roman\,Times New Roman" size="3"><font face="Times New Roman\,Times New Roman" size="3"><span _fck_bookmark="1" style="display: none">&nbsp\;</span></font></font>
LOCATION:1640 Freeway Drive Reidsville\, NC 27320
UID:e.111.2023
SEQUENCE:3
DTSTAMP:20260423T085646Z
URL:https://business.reidsvillechamber.org/events/details/strike-out-breast-cancer-10-29-2011-2023
END:VEVENT

END:VCALENDAR
