BEGIN:VCALENDAR
VERSION:2.0
PRODID:-//ChamberMaster//Event Calendar 2.0//EN
METHOD:PUBLISH
X-PUBLISHED-TTL:P3D
REFRESH-INTERVAL:P3D
CALSCALE:GREGORIAN
BEGIN:VEVENT
DTSTART;VALUE=DATE:20111001
DTEND;VALUE=DATE:20111101
TRANSP:TRANSPARENT
X-MICROSOFT-CDO-ALLDAYEVENT:TRUE
SUMMARY:Suit Up With Us.....La Boutique Suit Donation Drive for Domestic Violence Month
DESCRIPTION:Suit Up With Us....This October for Domestive Violence Month. Donate your gently used/worn Suit or Dress. Help Us\, Help Our Women Dress to Impress. Bring your donations in to La Boutique.
X-ALT-DESC;FMTTYPE=text/html:Suit Up With Us....This October for Domestive Violence Month. Donate your gently used/worn Suit or Dress. Help Us\, Help Our Women Dress to Impress. Bring your donations in to La Boutique.&nbsp\;
LOCATION:La Boutique Downtown Reidsville 209 S. Scales Street
UID:e.111.2042
SEQUENCE:3
DTSTAMP:20260423T090339Z
URL:https://business.reidsvillechamber.org/events/details/suit-up-with-us-la-boutique-suit-donation-drive-for-domestic-violence-month-10-01-2011-2042
END:VEVENT

END:VCALENDAR
