BEGIN:VCALENDAR
VERSION:2.0
PRODID:-//ChamberMaster//Event Calendar 2.0//EN
METHOD:PUBLISH
X-PUBLISHED-TTL:P3D
REFRESH-INTERVAL:P3D
CALSCALE:GREGORIAN
BEGIN:VEVENT
DTSTART:20120214T233000Z
DTEND:20120215T023000Z
X-MICROSOFT-CDO-ALLDAYEVENT:FALSE
SUMMARY:Sweetheart Valentine Gala 2012
DESCRIPTION:Please join us for our fundraising event\, benefiting the Rockingham Chapter of the American Red Cross Click Here for Flyer
X-ALT-DESC;FMTTYPE=text/html:Please join us for our fundraising event\, benefiting the Rockingham Chapter of the American Red Cross <a href="http://cloud.chambermaster.com/userfiles/UserFiles/chambers/111/File/SweetheartValentineGala2012final2.doc">Click Here for Flyer</a>
LOCATION:Cafe' 99
UID:e.111.2124
SEQUENCE:3
DTSTAMP:20260421T144623Z
URL:https://business.reidsvillechamber.org/events/details/sweetheart-valentine-gala-2012-02-14-2012-2124
END:VEVENT

END:VCALENDAR
