BEGIN:VCALENDAR
VERSION:2.0
PRODID:-//ChamberMaster//Event Calendar 2.0//EN
METHOD:PUBLISH
X-PUBLISHED-TTL:P3D
REFRESH-INTERVAL:P3D
CALSCALE:GREGORIAN
BEGIN:VEVENT
DTSTART;VALUE=DATE:20120306
DTEND;VALUE=DATE:20120330
TRANSP:TRANSPARENT
X-MICROSOFT-CDO-ALLDAYEVENT:TRUE
SUMMARY:Taste of Home Cooking Show Booth Participant Invitation!!
DESCRIPTION:You are invited to be part of theTASTE OF HOME COOKING SHOW event! Thursday\, March 29 2012 @ the Greensboro Coliseum War Memorial Auditorum. Vendor Booths/table open from 3:30-7:00pm. Cooking Show starts at 7:00pm. Booth Package Investment: $375. & includes business card ad in the full-run Home Cooking Show section on Sunday\, March 25th in the NR\; 2 tickets\;1 item to include in all gift bags\; 1 8ft table at event. Electricity for booth is extra ($50). DEADLINE IS FRIDAY\, MARCH 9TH.For reservations & more information\, call Judy Neal @ 336-627-1781\, ext 131\, jneal@news-record.comor Karl Miller @ 336-627-1781\, ext 133\, kmiller@news-record.com
X-ALT-DESC;FMTTYPE=text/html:<span style="font-size: 12px"><span style="font-family: arial"><span style="color: black">You are invited to be part of </span><span style="color: black">the</span><strong><span style="color: black">TASTE</span></strong><strong><span style="color: black"> OF HOME COOKING SHOW event! </span></strong><span style="color: black">Thursday\, March 29 2012 @ the Greensboro Coliseum War Memorial Auditorum. Vendor Booths/table open from 3:30-7:00pm. Cooking Show starts at 7:00pm. Booth Package Investment: $375. &amp\; includes business card ad in the full-run Home Cooking Show section on Sunday\, March 25th in the NR\; 2 tickets\;1 item to include in all gift bags\; 1 8ft table at event. Electricity for booth is extra ($50). </span><strong><em><span style="color: black">DEADLINE IS FRIDAY\, MARCH </span></em></strong><strong><em><span style="color: black">9TH.</span></em></strong><span style="color: black">For</span><span style="color: black"> reservations &amp\; more information\, call Judy Neal @ 336-627-1781\, ext 131\, </span><a href="mailto:jneal@news-record.com"><span style="color: #0000ff">jneal@news-record.com</span></a>or Karl Miller @ 336-627-1781\, ext 133\, <a href="mailto:kmiller@news-record.com"><span style="color: #0000ff">kmiller@news-record.com</span></a></span></span><br />\n
LOCATION:Greensboro Coliseum War Memorial Auditorum
UID:e.111.2164
SEQUENCE:3
DTSTAMP:20260421T131439Z
URL:https://business.reidsvillechamber.org/events/details/taste-of-home-cooking-show-booth-participant-invitation-03-06-2012-2164
END:VEVENT

END:VCALENDAR
