BEGIN:VCALENDAR
VERSION:2.0
PRODID:-//ChamberMaster//Event Calendar 2.0//EN
METHOD:PUBLISH
X-PUBLISHED-TTL:P3D
REFRESH-INTERVAL:P3D
CALSCALE:GREGORIAN
BEGIN:VEVENT
DTSTART:20110308T230000Z
DTEND:20110309T030000Z
X-MICROSOFT-CDO-ALLDAYEVENT:FALSE
SUMMARY:Telethon for Leader in Me on WGSR
DESCRIPTION:LEADER IN ME TELETHON\n\n\n\nThe Reidsville Chamber of Commerce and WGSR Star News will be hosting a fundraiser telethon for the LEADER IN ME program being implemented at Lawsonville Avenue School.\n\n\n\nHelp prepare our children to become the leaders of the 21st century. The call-in show will feature students and staff of Lawsonville Avenue School\, entertainment by local artists\, leadership demonstratioins by students\, an appearance by Rich Brenner\, former WGHP Fox 8 anchor\, and discussions from leaders of today about what our community will need to do to meet future needs for business leaders.\n\n\n\nSponsorships are available for $250 per hour.  Sponsors will be recognized and the logos will appear on screen during the sponsored hour.  Please call the Chamber if you are interested in making a donation or becoming a sponsor.
X-ALT-DESC;FMTTYPE=text/html:<strong><span style="font-size: 14px"><span style="font-family: comic sans ms">LEADER IN ME TELETHON<br />\n<br />\nThe Reidsville Chamber of Commerce and WGSR Star News will be hosting a fundraiser telethon for the LEADER IN ME program being implemented at Lawsonville Avenue School.<br />\n<br />\nHelp prepare our children to become the leaders of the 21st century.&nbsp\;The call-in show will feature students and staff of Lawsonville Avenue School\, entertainment by local artists\, leadership demonstratioins by students\, an appearance by Rich Brenner\, former WGHP Fox 8 anchor\, and discussions from leaders of today about what our community will need to do to meet future needs for business leaders.<br />\n<br />\nSponsorships are available for $250 per hour.&nbsp\; Sponsors will be recognized and the logos will appear on screen during the sponsored hour.&nbsp\; Please call the Chamber if you are interested in making a donation or becoming a sponsor.</span></span></strong><br />\n<br />\n
LOCATION:WGSR47 Reidsville
UID:e.111.1601
SEQUENCE:3
DTSTAMP:20260423T195206Z
URL:https://business.reidsvillechamber.org/events/details/telethon-for-leader-in-me-on-wgsr-03-08-2011-1601
END:VEVENT

END:VCALENDAR
