BEGIN:VCALENDAR
VERSION:2.0
PRODID:-//ChamberMaster//Event Calendar 2.0//EN
METHOD:PUBLISH
X-PUBLISHED-TTL:P3D
REFRESH-INTERVAL:P3D
CALSCALE:GREGORIAN
BEGIN:VEVENT
DTSTART:20101009T140000Z
DTEND:20101011T220000Z
X-MICROSOFT-CDO-ALLDAYEVENT:FALSE
SUMMARY:TGRC announces Auditions for "The Best Christmas Pageant Ever"
DESCRIPTION:The Herdmans show up at the church Christmas Pageant tryouts and everyone is horrified. Why? Because they are horrible children! They steal\, burn down buildings\, and terrorize the neighborhood. Students & families will love the story of how the Herdmans and their community learn to work together\, while learning the true meaning of Christmas.\n\n\n\n***Note from the Directors:  Auditionees\, other than baby angels (ages under 7)\, should be prepared to present a short monologue. Please see the TGRC Auditions page for examples of appropriate length monologues. You may use one of these or supply your own of the same approximate length.
X-ALT-DESC;FMTTYPE=text/html:The Herdmans show up at the church Christmas Pageant tryouts and everyone is horrified. Why? Because they are horrible children! They steal\, burn down buildings\, and terrorize the neighborhood. Students & families will love the story of how the Herdmans and their community learn to work together\, while learning the true meaning of Christmas.\n<br>\n<br>***Note from the Directors:  Auditionees\, other than baby angels (ages under 7)\, should be prepared to present a short monologue. Please see the TGRC Auditions page for examples of appropriate length monologues. You may use one of these or supply your own of the same approximate length.\n<br> \n<br>
LOCATION:Rockingham Community College Auditorium Advanced Technologies Building
UID:e.111.1524
SEQUENCE:3
DTSTAMP:20260424T040415Z
URL:https://business.reidsvillechamber.org/events/details/tgrc-announces-auditions-for-the-best-christmas-pageant-ever-10-09-2010-1524
END:VEVENT

END:VCALENDAR
