BEGIN:VCALENDAR
VERSION:2.0
PRODID:-//ChamberMaster//Event Calendar 2.0//EN
METHOD:PUBLISH
X-PUBLISHED-TTL:P3D
REFRESH-INTERVAL:P3D
CALSCALE:GREGORIAN
BEGIN:VEVENT
DTSTART:20141007T230000Z
DTEND:20141007T230000Z
X-MICROSOFT-CDO-ALLDAYEVENT:FALSE
SUMMARY:TGRC Hosts Auditions for It's A Wonderful Life - The Musical
DESCRIPTION:Based on the beloved 1946 film\, this musical faithfully follows George Bailey's life from his childhood dreams to his midlife disappointments and beyond\, as we all take a journey to discover whether his life has mattered at all. As he prepares to jump from a bridge\, his guardian angel intercedes\; showing him what life would have become for the residents of Bedford Falls is he had never lived. Cinematically scored and theatrically staged\, this adaptation breathes musical life into a familiar story\, while retaining the warmth\, humor\, and pathos of the original. A new holiday classic for devotees and newcomers alike.
X-ALT-DESC;FMTTYPE=text/html:Based on the beloved 1946 film\, this musical faithfully follows George Bailey&#39\;s life from his childhood dreams to his midlife disappointments and beyond\, as we all take a journey to discover whether his life has mattered at all. As he prepares to jump from a bridge\, his guardian angel intercedes\; showing him what life would have become for the residents of Bedford Falls is he had never lived. Cinematically scored and theatrically staged\, this adaptation breathes musical life into a familiar story\, while retaining the warmth\, humor\, and pathos of the original. A new holiday classic for devotees and newcomers alike.
LOCATION:Rockingham Community College Auditorium
UID:e.111.2921
SEQUENCE:3
DTSTAMP:20260422T181208Z
URL:https://business.reidsvillechamber.org/events/details/tgrc-hosts-auditions-for-it-s-a-wonderful-life-the-musical-10-07-2014-2921
END:VEVENT

END:VCALENDAR
