BEGIN:VCALENDAR
VERSION:2.0
PRODID:-//ChamberMaster//Event Calendar 2.0//EN
METHOD:PUBLISH
X-PUBLISHED-TTL:P3D
REFRESH-INTERVAL:P3D
CALSCALE:GREGORIAN
BEGIN:VEVENT
DTSTART:20110626T183000Z
DTEND:20110626T203000Z
X-MICROSOFT-CDO-ALLDAYEVENT:FALSE
SUMMARY:TGRC presents ALL SHOOK UP
DESCRIPTION:Theatre Guild of Rockingham County presents All Shook Up\, a musical about a guitar-playing roustabout who rides into a sleepy little town where the no-nonsense mayor has outlawed all forms of indecency including dancing and rock-n-roll.  Inspired by the music of Elvis Presley\, hilarity ensues as citizens find love in the most unlikely places and discover that this leather-clad hound dog has got them all shook up.
X-ALT-DESC;FMTTYPE=text/html:<p class="MsoNormal" style="margin: 0in 0in 12pt\; mso-layout-grid-align: none">\n	<span style="font-size: 10pt\; color: black\; font-family: arial\; mso-fareast-language: ko">Theatre Guild of Rockingham County presents <b>All Shook Up</b>\, a musical about a guitar-playing roustabout who rides into a sleepy little town where the no-nonsense mayor has outlawed all forms of indecency including dancing and rock-n-roll.<span style="mso-spacerun: yes">&nbsp\; </span>Inspired by the music of Elvis Presley\, hilarity ensues as citizens find love in the most unlikely places and discover that this leather-clad hound dog has got them all shook up.<span style="mso-spacerun: yes">&nbsp\; </span><o:p></o:p></span></p>\n
LOCATION:Rockingham County High School Auditorium
UID:e.111.1942
SEQUENCE:3
DTSTAMP:20260423T152059Z
URL:https://business.reidsvillechamber.org/events/details/tgrc-presents-all-shook-up-06-26-2011-1942
END:VEVENT

END:VCALENDAR
