BEGIN:VCALENDAR
VERSION:2.0
PRODID:-//ChamberMaster//Event Calendar 2.0//EN
METHOD:PUBLISH
X-PUBLISHED-TTL:P3D
REFRESH-INTERVAL:P3D
CALSCALE:GREGORIAN
BEGIN:VEVENT
DTSTART:20110408T233000Z
DTEND:20110409T010000Z
X-MICROSOFT-CDO-ALLDAYEVENT:FALSE
SUMMARY:TGRC presents Charlotte's Web
DESCRIPTION:Theatre Guild of Rockingham County presents CHARLOTTE'S WEB\, the classic story of Wilbur\, a young pig who's terrified that he'll end up on the dinner table until his friend Charlotte\, a charming spider\, comes to his rescue.
X-ALT-DESC;FMTTYPE=text/html:Theatre Guild of Rockingham County presents CHARLOTTE'S WEB\, the classic story of Wilbur\, a young pig who's terrified that he'll end up on the dinner table until his friend Charlotte\, a charming spider\, comes to his rescue.  
LOCATION:Rockingham Community College Auditorium Advanced Technologies Building
UID:e.111.1898
SEQUENCE:3
DTSTAMP:20260423T182209Z
URL:https://business.reidsvillechamber.org/events/details/tgrc-presents-charlotte-s-web-04-08-2011-1898
END:VEVENT

END:VCALENDAR
