BEGIN:VCALENDAR
VERSION:2.0
PRODID:-//ChamberMaster//Event Calendar 2.0//EN
METHOD:PUBLISH
X-PUBLISHED-TTL:P3D
REFRESH-INTERVAL:P3D
CALSCALE:GREGORIAN
BEGIN:VEVENT
DTSTART:20091011T183000Z
DTEND:20091011T200000Z
X-MICROSOFT-CDO-ALLDAYEVENT:FALSE
SUMMARY:TGRC presents Disney's Mulan\, Jr
DESCRIPTION:Live performance of Disney's Mulan\, Jr. Performed by our new Youth Theatre(ages 13-18 yrs old). Great entertainment for the entire family.
X-ALT-DESC;FMTTYPE=text/html:<div style="text-align: center"><span style="font-size: medium">Live performance of Disney&rsquo\;s Mulan\, Jr. Performed by our new Youth Theatre(ages 13-18 yrs old). </span></div><div style="text-align: center"><span style="font-size: medium">Great entertainment for the entire family. </span></div>
LOCATION:Rockingham County Community College Advanced Technologies Auditiorium
UID:e.111.1227
SEQUENCE:3
DTSTAMP:20260425T005903Z
URL:https://business.reidsvillechamber.org/events/details/tgrc-presents-disney-s-mulan-jr-10-11-2009-1227
END:VEVENT

END:VCALENDAR
