BEGIN:VCALENDAR
VERSION:2.0
PRODID:-//ChamberMaster//Event Calendar 2.0//EN
METHOD:PUBLISH
X-PUBLISHED-TTL:P3D
REFRESH-INTERVAL:P3D
CALSCALE:GREGORIAN
BEGIN:VEVENT
DTSTART:20110213T003000Z
DTEND:20110213T023000Z
X-MICROSOFT-CDO-ALLDAYEVENT:FALSE
SUMMARY:TGRC presents GYPSY
DESCRIPTION:Theatre Guild of Rockingham County presents GYPSY\, the musical featuring show business dreams\, the ultimate stage mother\, and the birth of burlesque in Gypsy Rose Lee style. Featuring many songs that have become American standards\, such as "Everything?s Coming Up Roses" and "Small World."\n\n\n\nAlso\, auditions for Charlotte's Web will be held Tuesday\, Feb. 8th and Saturday\, Feb. 12th at RCC.\n\nCheck the website www.tgrc-nc.com.    All ages are needed for the production
X-ALT-DESC;FMTTYPE=text/html:Theatre Guild of Rockingham County presents GYPSY\, the musical featuring show business dreams\, the ultimate stage mother\, and the birth of burlesque in Gypsy Rose Lee style. Featuring many songs that have become American standards\, such as &quot\;Everything?s Coming Up Roses&quot\; and &quot\;Small World.&quot\;<br />\n<br />\n<span style="background-color: #ffff00">Also\, auditions for Charlotte&#39\;s Web will be held Tuesday\, Feb. 8th and Saturday\, Feb. 12th at RCC.</span><br />\n<span style="background-color: #ffff00">Check the website </span><a href="http://www.tgrc-nc.com/"><span style="background-color: #ffff00">www.tgrc-nc.com</span></a><span style="background-color: #ffff00">.&nbsp\;&nbsp\;&nbsp\; All ages are needed for the production</span>
LOCATION:Rockingham Community College Auditorium
UID:e.111.1582
SEQUENCE:3
DTSTAMP:20260423T212926Z
URL:https://business.reidsvillechamber.org/events/details/tgrc-presents-gypsy-02-12-2011-1582
END:VEVENT

END:VCALENDAR
