BEGIN:VCALENDAR
VERSION:2.0
PRODID:-//ChamberMaster//Event Calendar 2.0//EN
METHOD:PUBLISH
X-PUBLISHED-TTL:P3D
REFRESH-INTERVAL:P3D
CALSCALE:GREGORIAN
BEGIN:VEVENT
DTSTART:20110213T193000Z
DTEND:20110213T213000Z
X-MICROSOFT-CDO-ALLDAYEVENT:FALSE
SUMMARY:TGRC presents GYPSY
DESCRIPTION:Theatre Guild of Rockingham County presents GYPSY\, the musical featuring show business dreams\, the ultimate stage mother\, and the birth of burlesque in Gypsy Rose Lee style. Featuring many songs that have become American standards\, such as ?Everything?s Coming Up Roses? and ?Small World.?
X-ALT-DESC;FMTTYPE=text/html:Theatre Guild of Rockingham County presents GYPSY\, the musical featuring show business dreams\, the ultimate stage mother\, and the birth of burlesque in Gypsy Rose Lee style. Featuring many songs that have become American standards\, such as ?Everything?s Coming Up Roses? and ?Small World.?
LOCATION:Rockingham Community College Auditorium
UID:e.111.1583
SEQUENCE:3
DTSTAMP:20260423T212939Z
URL:https://business.reidsvillechamber.org/events/details/tgrc-presents-gypsy-02-13-2011-1583
END:VEVENT

END:VCALENDAR
