BEGIN:VCALENDAR
VERSION:2.0
PRODID:-//ChamberMaster//Event Calendar 2.0//EN
METHOD:PUBLISH
X-PUBLISHED-TTL:P3D
REFRESH-INTERVAL:P3D
CALSCALE:GREGORIAN
BEGIN:VEVENT
DTSTART;VALUE=DATE:20110827
DTEND;VALUE=DATE:20110828
TRANSP:TRANSPARENT
X-MICROSOFT-CDO-ALLDAYEVENT:TRUE
SUMMARY:TGRC Presents Murder Mystery Dinner & Silent Auction
DESCRIPTION:
X-ALT-DESC;FMTTYPE=text/html:
LOCATION:
UID:e.111.1946
SEQUENCE:3
DTSTAMP:20260423T133820Z
URL:https://business.reidsvillechamber.org/events/details/tgrc-presents-murder-mystery-dinner-silent-auction-08-27-2011-1946
END:VEVENT

END:VCALENDAR
