BEGIN:VCALENDAR
VERSION:2.0
PRODID:-//ChamberMaster//Event Calendar 2.0//EN
METHOD:PUBLISH
X-PUBLISHED-TTL:P3D
REFRESH-INTERVAL:P3D
CALSCALE:GREGORIAN
BEGIN:VEVENT
DTSTART:20100205T003000Z
DTEND:20100207T193000Z
X-MICROSOFT-CDO-ALLDAYEVENT:FALSE
SUMMARY:TGRC presents Smoke on the Mountain Homecoming
DESCRIPTION:It's October 1945\, and the gospel-singing Sanders Family is back together again at Mount Pleasant Baptist Church\, where Reverend Mervin Oglethorpe is giving his last service. He's been called to preach in Texas and is preparing to ride into the sunset with his wife June\, who is eight months pregnant. Join the Sanders Family as they send Mervin and June off in style\, with hilarious and touching stories and twenty-five toe-tapping Bluegrass Gospel favorites.
X-ALT-DESC;FMTTYPE=text/html:It's October 1945\, and the gospel-singing Sanders Family is back together again at Mount Pleasant Baptist Church\, where Reverend Mervin Oglethorpe is giving his last service. He's been called to preach in Texas and is preparing to ride into the sunset with his wife June\, who is eight months pregnant. Join the Sanders Family as they send Mervin and June off in style\, with hilarious and touching stories and twenty-five toe-tapping Bluegrass Gospel favorites. \n<br>
LOCATION:RCC Advanced Technologies Building Auditorium Wentworth\, NC
UID:e.111.1319
SEQUENCE:3
DTSTAMP:20260424T170215Z
URL:https://business.reidsvillechamber.org/events/details/tgrc-presents-smoke-on-the-mountain-homecoming-02-04-2010-1319
END:VEVENT

END:VCALENDAR
