BEGIN:VCALENDAR
VERSION:2.0
PRODID:-//ChamberMaster//Event Calendar 2.0//EN
METHOD:PUBLISH
X-PUBLISHED-TTL:P3D
REFRESH-INTERVAL:P3D
CALSCALE:GREGORIAN
BEGIN:VEVENT
DTSTART:20091206T193000Z
DTEND:20091206T210000Z
X-MICROSOFT-CDO-ALLDAYEVENT:FALSE
SUMMARY:TGRC presents The Best Christmas Pageant Ever
DESCRIPTION:theatre guild of rockingham county presents"The Best Christmas Pageant Ever"RCC AuditoriumFriday\, Dec. 4 @ 7:30 p.m.Saturday Dec. 4 @ 2:30 & 7:30 p.m.Sunday Dec. 6th @ 2:30 p.m. For reservations call (336)627-0228Tickets available at the door $1.00 off price of regular admission with a non-perishable food donationCheck the web site www.tgrc-nc.com on how you can have lunch with Santa!
X-ALT-DESC;FMTTYPE=text/html:<div style="text-align: center"><span style="font-family: Comic Sans MS"><span style="font-size: large"><span style="font-size: medium">theatre guild of rockingham county </span></span></span></div><div style="text-align: center"><span style="font-family: Comic Sans MS"><span style="font-size: large"><span style="font-size: medium">presents</span></span></span></div><div style="text-align: center"><span style="font-family: Comic Sans MS"><span style="color: #ff0000"><span style="font-size: large">&quot\;The Best <span style="color: #339966">Christmas <span style="color: #ff0000">Pageant Ever&quot\;</span></span></span></span></span></div><div style="text-align: center"><span style="font-family: Comic Sans MS"><span style="font-size: large"><span style="color: #339966"><span style=""><span style="font-size: medium"><span style="color: #000000">RCC Auditorium</span></span></span></span></span></span></div><div style="text-align: center"><span style="font-family: Comic Sans MS"><span style="font-size: large"><span style="color: #339966"><span style=""><span style="font-size: medium"><span style="color: #000000">Friday\, Dec. 4 @ 7:30 p.m.</span></span></span></span></span></span></div><div style="text-align: center"><span style="font-family: Comic Sans MS"><span style="font-size: large"><span style="color: #339966"><span style=""><span style="font-size: medium"><span style="color: #000000">Saturday Dec. 4 @ 2:30 &amp\; 7:30 p.m.</span></span></span></span></span></span></div><div style="text-align: center"><span style="font-family: Comic Sans MS"><span style="font-size: large"><span style="color: #339966"><span style=""><span style="font-size: medium"><span style="color: #000000">Sunday Dec. 6th @ 2:30 p.m.</span></span></span></span></span></span></div><div style="text-align: center">&nbsp\;</div><div style="text-align: center"><span style="font-family: Comic Sans MS"><span style="font-size: large"><span style="color: #339966"><span style=""><span style="font-size: medium"><span style="color: #000000"><span style="font-size: small">For reservations call (336)627-0228</span></span></span></span></span></span></span></div><div style="text-align: center"><span style="font-family: Comic Sans MS"><span style="font-size: large"><span style="color: #339966"><span style=""><span style="font-size: medium"><span style="color: #000000"><span style="font-size: small">Tickets available at the door</span></span></span></span></span></span></span></div><div style="text-align: center">&nbsp\;</div><div style="text-align: center"><span style="font-family: Comic Sans MS"><span style="font-size: large"><span style="color: #339966"><span style=""><span style="font-size: medium"><span style="color: #000000"><span style="font-size: small">$1.00 off price of regular admission with a non-perishable food donation</span></span></span></span></span></span></span></div><div style="text-align: center"><span style="font-family: Comic Sans MS"><span style="font-size: large"><span style="color: #339966"><span style=""><span style="font-size: medium"><span style="color: #000000"><span style="font-size: small">Check the web site <a href="http://www.tgrc-nc.com">www.tgrc-nc.com</a> on how you can have </span></span></span></span></span></span></span></div><div style="text-align: center"><span style="font-family: Comic Sans MS"><span style="font-size: large"><span style="color: #339966"><span style=""><span style="font-size: medium"><span style="color: #000000"><span style="font-size: small">lunch with Santa!</span></span></span></span></span></span></span></div><div style="text-align: center">&nbsp\;</div><div style="text-align: center">&nbsp\;</div>
LOCATION:
UID:e.111.1280
SEQUENCE:3
DTSTAMP:20260424T202019Z
URL:https://business.reidsvillechamber.org/events/details/tgrc-presents-the-best-christmas-pageant-ever-12-06-2009-1280
END:VEVENT

END:VCALENDAR
