BEGIN:VCALENDAR
VERSION:2.0
PRODID:-//ChamberMaster//Event Calendar 2.0//EN
METHOD:PUBLISH
X-PUBLISHED-TTL:P3D
REFRESH-INTERVAL:P3D
CALSCALE:GREGORIAN
BEGIN:VEVENT
DTSTART:20100618T233000Z
DTEND:20100619T020000Z
X-MICROSOFT-CDO-ALLDAYEVENT:FALSE
SUMMARY:TGRC presents The King and I
DESCRIPTION:Theatre Guild of Rockingham County presents Rodger's and Hammerstein's ?The King and I".  It is 1862 in Siam when an English widow\, Anna Leonowens\, and her young son arrive at the Royal Palace in Bangkok\, having been summoned by the King to serve as tutor to his many children and wives. With both keeping a firm grip on their respective traditions and values\, Anna and the King grow to understand and\, eventually\, respect one another\, in a truly unique love story.
X-ALT-DESC;FMTTYPE=text/html:Theatre Guild of Rockingham County presents Rodger's and Hammerstein's ?The King and I".  It is 1862 in Siam when an English widow\, Anna Leonowens\, and her young son arrive at the Royal Palace in Bangkok\, having been summoned by the King to serve as tutor to his many children and wives. With both keeping a firm grip on their respective traditions and values\, Anna and the King grow to understand and\, eventually\, respect one another\, in a truly unique love story.\n<br>
LOCATION:Rockingham County High School Auditorium
UID:e.111.1476
SEQUENCE:3
DTSTAMP:20260424T114137Z
URL:https://business.reidsvillechamber.org/events/details/tgrc-presents-the-king-and-i-06-18-2010-1476
END:VEVENT

END:VCALENDAR
