BEGIN:VCALENDAR
VERSION:2.0
PRODID:-//ChamberMaster//Event Calendar 2.0//EN
METHOD:PUBLISH
X-PUBLISHED-TTL:P3D
REFRESH-INTERVAL:P3D
CALSCALE:GREGORIAN
BEGIN:VEVENT
DTSTART:20141011T233000Z
DTEND:20141011T233000Z
X-MICROSOFT-CDO-ALLDAYEVENT:FALSE
SUMMARY:TGRC Presents The Lion The Witch & The Wardrobe
DESCRIPTION:http://www.tgrc-nc.com/Home/2014-2015-season/lion Four kids travel through a magical wardrobe to the land of Narnia and learn of their destiny to free it from the clutches of the White Witch who has established herself as Queen of Narnia where it is always Winter and never Christmas. They are aided by the great and powerful lion king of Narnia\, Aslan. Friday\, 10/10/2014 at 7:30 p.m. Saturday\, 10/11/2014 at 7:30 p.m. Sunday\, 10/12/2014 at 2:30 p.m
X-ALT-DESC;FMTTYPE=text/html:http://www.tgrc-nc.com/Home/2014-2015-season/lion Four kids travel through a magical wardrobe to the land of Narnia and learn of their destiny to free it from the clutches of the White Witch who has established herself as Queen of Narnia where it is always Winter and never Christmas. They are aided by the great and powerful lion king of Narnia\, Aslan. Friday\, 10/10/2014 at 7:30 p.m. Saturday\, 10/11/2014 at 7:30 p.m. Sunday\, 10/12/2014 at 2:30 p.m
LOCATION:RCC Auditorium Located inside the Advanced Technologies Building
UID:e.111.2907
SEQUENCE:3
DTSTAMP:20260422T195502Z
URL:https://business.reidsvillechamber.org/events/details/tgrc-presents-the-lion-the-witch-the-wardrobe-10-11-2014-2907
END:VEVENT

END:VCALENDAR
