BEGIN:VCALENDAR
VERSION:2.0
PRODID:-//ChamberMaster//Event Calendar 2.0//EN
METHOD:PUBLISH
X-PUBLISHED-TTL:P3D
REFRESH-INTERVAL:P3D
CALSCALE:GREGORIAN
BEGIN:VEVENT
DTSTART:20100828T133000Z
DTEND:20100828T150000Z
X-MICROSOFT-CDO-ALLDAYEVENT:FALSE
SUMMARY:TGRC Youth Theatre announces Auditions for Big Bad Musical
DESCRIPTION:Theatre Guild of Rockingham County Youth Theatre announces auditions for Big Bad Musical.  Auditions are open to anyone ages 13 - 18.  Those who wish to audition will be asked to read sides from the script and should be prepared with a short song\, about 16 bars.  See the website tgrc-nc.com for more details.
X-ALT-DESC;FMTTYPE=text/html:Theatre Guild of Rockingham County Youth Theatre announces auditions for Big Bad Musical.  Auditions are open to anyone ages 13 - 18.  Those who wish to audition will be asked to read sides from the script and should be prepared with a short song\, about 16 bars.  See the website tgrc-nc.com for more details. 
LOCATION:RCC Auditorium
UID:e.111.1495
SEQUENCE:3
DTSTAMP:20260424T065957Z
URL:https://business.reidsvillechamber.org/events/details/tgrc-youth-theatre-announces-auditions-for-big-bad-musical-08-28-2010-1495
END:VEVENT

END:VCALENDAR
