BEGIN:VCALENDAR
VERSION:2.0
PRODID:-//ChamberMaster//Event Calendar 2.0//EN
METHOD:PUBLISH
X-PUBLISHED-TTL:P3D
REFRESH-INTERVAL:P3D
CALSCALE:GREGORIAN
BEGIN:VEVENT
DTSTART:20100326T223000Z
DTEND:20100327T003000Z
X-MICROSOFT-CDO-ALLDAYEVENT:FALSE
SUMMARY:Thai Spa Event Midtown Salon & Spa
DESCRIPTION:Introduction to the benefits of Thai Massage \nDemonstration of Thai techniques \n15% booking discount if you book your Thai Massage the night of our event \nFREE hand & arm massages \nEveryone that attends receives a FREE gift \nLight refreshments & food \n   Massage Therapist - Jennifer Warren LMBT #5579
X-ALT-DESC;FMTTYPE=text/html:<div>Introduction to the benefits of Thai Massage <br />Demonstration of Thai techniques <br />15% booking discount if you book your Thai Massage the night of our event <br />FREE hand &amp\; arm massages <br />Everyone that attends receives a FREE gift <br />Light refreshments &amp\; food <br />&nbsp\;</div><div>&nbsp\;&nbsp\;</div><div>Massage Therapist - Jennifer Warren LMBT #5579</div>
LOCATION:Midtown Salon & Spa 730 S. Scales St.\, Ste. G-1 Reidsville\, NC 27320
UID:e.111.1334
SEQUENCE:3
DTSTAMP:20260424T152718Z
URL:https://business.reidsvillechamber.org/events/details/thai-spa-event-midtown-salon-spa-03-26-2010-1334
END:VEVENT

END:VCALENDAR
