BEGIN:VCALENDAR
VERSION:2.0
PRODID:-//ChamberMaster//Event Calendar 2.0//EN
METHOD:PUBLISH
X-PUBLISHED-TTL:P3D
REFRESH-INTERVAL:P3D
CALSCALE:GREGORIAN
BEGIN:VEVENT
DTSTART:20141021T223000Z
DTEND:20141022T000000Z
X-MICROSOFT-CDO-ALLDAYEVENT:FALSE
SUMMARY:The Affordable Care Act and You
DESCRIPTION:Please join us to learn about the Affordable Care Act/Affordable Health Insurance program! We will be discussing the myths vs. the facts and learning how you can apply and be eligible for the program. Open enrollment for 2015 begins November 15th\, 2014 so come and find out how to enroll for affordable health insurance!
X-ALT-DESC;FMTTYPE=text/html:Please join us to learn about the Affordable Care Act/Affordable Health Insurance program! We will be discussing the myths vs. the facts and learning how you can apply and be eligible for the program. Open enrollment for 2015 begins November 15th\, 2014 so come and find out how to enroll for affordable health insurance!
LOCATION:First Baptist Church 409 S. Main St Reidsville\, NC\, 27320
UID:e.111.2931
SEQUENCE:3
DTSTAMP:20260422T195502Z
URL:https://business.reidsvillechamber.org/events/details/the-affordable-care-act-and-you-10-21-2014-2931
END:VEVENT

END:VCALENDAR
