BEGIN:VCALENDAR
VERSION:2.0
PRODID:-//ChamberMaster//Event Calendar 2.0//EN
METHOD:PUBLISH
X-PUBLISHED-TTL:P3D
REFRESH-INTERVAL:P3D
CALSCALE:GREGORIAN
BEGIN:VEVENT
DTSTART:20120317T140000Z
DTEND:20120317T140000Z
X-MICROSOFT-CDO-ALLDAYEVENT:FALSE
SUMMARY:The Celtic Fringe Ribbon Cutting
DESCRIPTION:Join us March 17\, 2012 for the Ribbon Cutting at the Celtic Fringe!!!! Celebrate St. Patrick's Day with Reidsville's very own Irish Pub! Get a delicious and traditional Irish lunch at The Celtic Fringe and observe St. Patrick's Day the right way!!
X-ALT-DESC;FMTTYPE=text/html:Join us&nbsp\;March 17\, 2012&nbsp\;for the Ribbon Cutting at the Celtic Fringe!!!! Celebrate St. Patrick&#39\;s Day with Reidsville&#39\;s very own Irish Pub! Get a delicious and&nbsp\;traditional Irish lunch at The Celtic Fringe and&nbsp\;observe St. Patrick&#39\;s Day the right way!!
LOCATION:Celtic Fringe 234 SW Market Street Reidsville\, NC\, 27320
UID:e.111.2171
SEQUENCE:3
DTSTAMP:20260421T144117Z
URL:https://business.reidsvillechamber.org/events/details/the-celtic-fringe-ribbon-cutting-03-17-2012-2171
END:VEVENT

END:VCALENDAR
