BEGIN:VCALENDAR
VERSION:2.0
PRODID:-//ChamberMaster//Event Calendar 2.0//EN
METHOD:PUBLISH
X-PUBLISHED-TTL:P3D
REFRESH-INTERVAL:P3D
CALSCALE:GREGORIAN
BEGIN:VEVENT
DTSTART:20111207T203000Z
DTEND:20111207T210000Z
X-MICROSOFT-CDO-ALLDAYEVENT:FALSE
SUMMARY:The City of Reidsville's Dedication of Kelly's Way
DESCRIPTION:The City of Reidsville in corially invites you to the Dedication of "Kelly's Way". In honor of Retired City Manager D. Kelly Almond..\n\n\n\nClick Here for Flyer
X-ALT-DESC;FMTTYPE=text/html:The City of Reidsville in corially invites you to the Dedication of &quot\;Kelly&#39\;s Way&quot\;. In honor of Retired City Manager D. Kelly Almond..<br />\n<br />\n<a href="http://cloud.chambermaster.com/userfiles/UserFiles/chambers/111/File/KellysWayDedicationflyer.pdf">Click Here for Flyer</a>
LOCATION:120 S. Scales Street in downtown Reidsville
UID:e.111.2099
SEQUENCE:3
DTSTAMP:20260421T175903Z
URL:https://business.reidsvillechamber.org/events/details/the-city-of-reidsville-s-dedication-of-kelly-s-way-12-07-2011-2099
END:VEVENT

END:VCALENDAR
