BEGIN:VCALENDAR
VERSION:2.0
PRODID:-//ChamberMaster//Event Calendar 2.0//EN
METHOD:PUBLISH
X-PUBLISHED-TTL:P3D
REFRESH-INTERVAL:P3D
CALSCALE:GREGORIAN
BEGIN:VEVENT
DTSTART:20100628T213000Z
DTEND:20100628T220000Z
X-MICROSOFT-CDO-ALLDAYEVENT:FALSE
SUMMARY:The Cutting Board - Ribbon Cutting and Grand Opening
DESCRIPTION:The Cutting Boardand theReidsville Chamber of Commerce cordially invites you to be our guest at the   Ribbon Cutting & Grand Opening100 S. Scales StreetReidsville\, NC  June 28\, 20105:30 pm RSVP to 336-349-8481 or via email to   info@reidsvillechamber.org
X-ALT-DESC;FMTTYPE=text/html:<div><div style="margin: 0in -72.2pt 0pt 0in\; text-align: center"><b><i><span style="font-size: 24pt\; color: navy">The Cutting Board</span></i></b></div><div style="margin: 0in -72.2pt 0pt 0in\; text-align: center"><b><i><span style="font-size: 14pt\; color: navy">and the</span></i></b></div><div style="margin: 0in -72.2pt 0pt 0in\; text-align: center"><span style="font-size: large"><span><span><b><i><span style="color: navy">Reidsville Chamber of Commerce</span></i></b></span></span></span></div><div style="margin: 0in -31.7pt 0pt 0in\; text-align: center">&nbsp\;</div><div style="margin: 0in -31.7pt 0pt 0in\; text-align: center"><span style="font-size: large">cordially invites you to be our guest at the</span></div><div style="margin: 0in -31.7pt 0pt 0in\; text-align: center"><span style="font-size: large">&nbsp\;&nbsp\;&nbsp\;Ribbon Cutting &amp\; Grand Opening</span></div><div style="margin: 0in -31.7pt 0pt 0in\; text-align: center"><span style="font-size: 14pt">100 S. Scales Street</span></div><div style="margin: 0in -31.7pt 0pt 0in\; text-align: center"><span style="font-size: 14pt">Reidsville\, NC </span></div><div style="margin: 0in -31.7pt 0pt 0in\; text-align: center">&nbsp\;</div><div style="margin: 0in -31.7pt 0pt 0in\; text-align: center"><span style="font-size: 20pt">June 28\, 2010</span></div><div style="margin: 0in -31.7pt 0pt 0in\; text-align: center"><span style="font-size: 20pt">5:30 pm</span></div><div style="margin: 0in -31.7pt 0pt 0in\; text-align: center">&nbsp\;</div><div style="margin: 0in -31.7pt 0pt 0in\; text-align: center"><b><i><span style="font-size: 16pt\; color: #cc0000">RSVP to 336-349-8481 or via email to</span></i></b></div><div style="margin: 0in -31.7pt 0pt 0in\; text-align: center"><b><i><span style="font-size: 16pt\; color: #cc0000">&nbsp\;&nbsp\;&nbsp\;info@reidsvillechamber.org</span></i></b></div><div style="margin: 0in 0in 0pt\; text-align: center"><b>&nbsp\;</b></div><div style="margin: 0in 0in 0pt\; text-align: center"><b>&nbsp\;</b></div><div style="margin: 0in 0in 0pt" align="center">&nbsp\;</div></div>
LOCATION:
UID:e.111.1468
SEQUENCE:3
DTSTAMP:20260424T212005Z
URL:https://business.reidsvillechamber.org/events/details/the-cutting-board-ribbon-cutting-and-grand-opening-06-28-2010-1468
END:VEVENT

END:VCALENDAR
