BEGIN:VCALENDAR
VERSION:2.0
PRODID:-//ChamberMaster//Event Calendar 2.0//EN
METHOD:PUBLISH
X-PUBLISHED-TTL:P3D
REFRESH-INTERVAL:P3D
CALSCALE:GREGORIAN
BEGIN:VEVENT
DTSTART:20120428T130000Z
DTEND:20120428T190000Z
X-MICROSOFT-CDO-ALLDAYEVENT:FALSE
SUMMARY:The "Garden Tour of Wentworth"
DESCRIPTION:
X-ALT-DESC;FMTTYPE=text/html:
LOCATION:Wentworth\, Rockingham County\, NC
UID:e.111.2149
SEQUENCE:3
DTSTAMP:20260421T114107Z
URL:https://business.reidsvillechamber.org/events/details/the-garden-tour-of-wentworth-04-28-2012-2149
END:VEVENT

END:VCALENDAR
