BEGIN:VCALENDAR
VERSION:2.0
PRODID:-//ChamberMaster//Event Calendar 2.0//EN
METHOD:PUBLISH
X-PUBLISHED-TTL:P3D
REFRESH-INTERVAL:P3D
CALSCALE:GREGORIAN
BEGIN:VEVENT
DTSTART;VALUE=DATE:20101204
DTEND;VALUE=DATE:20101206
TRANSP:TRANSPARENT
X-MICROSOFT-CDO-ALLDAYEVENT:TRUE
SUMMARY:The Rockingham County Arts Council -- Holiday Open House @ Dan River Art Market
DESCRIPTION:The Rockingham County Arts Council\n\n	invites you to their\n\n	Holiday Open House
X-ALT-DESC;FMTTYPE=text/html:<p style="text-align: center\;">\n	<span style="font-family: times new roman\;"><span style="font-size: 14px\;"><strong><span style="font-size: 20px\;"><em>The Rockingham County Arts Council</em></span></strong><br />\n	invites you to their<br />\n	<span style="font-size: 36px\;"><span style="color: rgb(255\, 0\, 0)\;">Holiday </span><span style="color: rgb(0\, 128\, 0)\;">Open House</span></span></span></span></p>\n
LOCATION:at the Dan River Art Market Gallery 1122 NC Highway 65 (in Historic Wentworth)
UID:e.111.1516
SEQUENCE:3
DTSTAMP:20260424T004805Z
URL:https://business.reidsvillechamber.org/events/details/the-rockingham-county-arts-council-holiday-open-house-dan-river-art-market-12-04-2010-1516
END:VEVENT

END:VCALENDAR
