BEGIN:VCALENDAR
VERSION:2.0
PRODID:-//ChamberMaster//Event Calendar 2.0//EN
METHOD:PUBLISH
X-PUBLISHED-TTL:P3D
REFRESH-INTERVAL:P3D
CALSCALE:GREGORIAN
BEGIN:VEVENT
DTSTART:20110507T203000Z
DTEND:20110508T003000Z
X-MICROSOFT-CDO-ALLDAYEVENT:FALSE
SUMMARY:The Run for the Roses: A Day at the Derby benefitting Free Clinic of Rock. Co.
DESCRIPTION:Click Here for Event Flyer!
X-ALT-DESC;FMTTYPE=text/html:<a href="http://cloud.chambermaster.com/userfiles/UserFiles/chambers/111/File/Free%20Clinic%20Derby%20Flyer.pdf"><br />\nClick Here for Event Flyer!</a>
LOCATION:
UID:e.111.1908
SEQUENCE:3
DTSTAMP:20260423T182856Z
URL:https://business.reidsvillechamber.org/events/details/the-run-for-the-roses-a-day-at-the-derby-benefitting-free-clinic-of-rock-co-05-07-2011-1908
END:VEVENT

END:VCALENDAR
