BEGIN:VCALENDAR
VERSION:2.0
PRODID:-//ChamberMaster//Event Calendar 2.0//EN
METHOD:PUBLISH
X-PUBLISHED-TTL:P3D
REFRESH-INTERVAL:P3D
CALSCALE:GREGORIAN
BEGIN:VEVENT
DTSTART:20111104T233000Z
DTEND:20111105T013000Z
X-MICROSOFT-CDO-ALLDAYEVENT:FALSE
SUMMARY:The Theatre Guild of Rockingham County presents Dearly Departed
DESCRIPTION:The Theatre Guild of Rockingham County will present Dearly Departed at the Rockingham Community College Auditorium-Advanced Technologies Building.  Showtime is 7:30.  Tickets are $11.00 for adults and $8.00 for students.
X-ALT-DESC;FMTTYPE=text/html:<span class="cm_editor_fix">The Theatre Guild of Rockingham County will present&nbsp\;Dearly Departed&nbsp\;at the Rockingham Community College <span lang="EN" style="font-size: 9pt\; color: #222222\; font-family: arial\; mso-ansi-language: en">Auditorium-Advanced Technologies Building.&nbsp\; Showtime is 7:30.&nbsp\; Tickets are $11.00 for&nbsp\;adults and $8.00 for students.</span></span>
LOCATION:Rockingham Community College Advanced Technologies Building
UID:e.111.2024
SEQUENCE:3
DTSTAMP:20260421T212350Z
URL:https://business.reidsvillechamber.org/events/details/the-theatre-guild-of-rockingham-county-presents-dearly-departed-11-04-2011-2024
END:VEVENT

END:VCALENDAR
