BEGIN:VCALENDAR
VERSION:2.0
PRODID:-//ChamberMaster//Event Calendar 2.0//EN
METHOD:PUBLISH
X-PUBLISHED-TTL:P3D
REFRESH-INTERVAL:P3D
CALSCALE:GREGORIAN
BEGIN:VEVENT
DTSTART:20120304T193000Z
DTEND:20120304T220000Z
X-MICROSOFT-CDO-ALLDAYEVENT:FALSE
SUMMARY:The Theatre Guild of Rockingham County presents Little Women
DESCRIPTION:Tickets: $11-Adults\, $8-Students Reservations: 627-0228 or online at www.tgrc-nc.com. Tickets also available at the door.
X-ALT-DESC;FMTTYPE=text/html:Tickets: $11-Adults\, $8-Students Reservations: 627-0228 or online at www.tgrc-nc.com. Tickets also available at the door.
LOCATION:Rockingham Community College Advanced Technologies Building
UID:e.111.2137
SEQUENCE:3
DTSTAMP:20260421T145529Z
URL:https://business.reidsvillechamber.org/events/details/the-theatre-guild-of-rockingham-county-presents-little-women-03-04-2012-2137
END:VEVENT

END:VCALENDAR
