BEGIN:VCALENDAR
VERSION:2.0
PRODID:-//ChamberMaster//Event Calendar 2.0//EN
METHOD:PUBLISH
X-PUBLISHED-TTL:P3D
REFRESH-INTERVAL:P3D
CALSCALE:GREGORIAN
BEGIN:VEVENT
DTSTART:20120420T233000Z
DTEND:20120421T010000Z
X-MICROSOFT-CDO-ALLDAYEVENT:FALSE
SUMMARY:The Theatre Guild of Rockingham County presents Ramona Quimby
DESCRIPTION:The Theatre Guild of Rockingham County will present Ramona Quimby.  This is a children's theatre show and will be at Rockingham Community College Auditorium in the Advanced Technologies building.  Tickets are $11 for adults and $8 for children.  They may be purchased in advance or at the door.
X-ALT-DESC;FMTTYPE=text/html:The Theatre Guild of Rockingham County will present Ramona Quimby.&nbsp\; This is a children&#39\;s theatre show and will be at Rockingham Community College Auditorium in the Advanced Technologies building.&nbsp\; Tickets are $11 for adults and $8 for children.&nbsp\; They may be purchased in advance or at the door.
LOCATION:Rockingham Community College Auditorium- Advanced Technologies Building
UID:e.111.2182
SEQUENCE:3
DTSTAMP:20260421T114104Z
URL:https://business.reidsvillechamber.org/events/details/the-theatre-guild-of-rockingham-county-presents-ramona-quimby-04-20-2012-2182
END:VEVENT

END:VCALENDAR
