BEGIN:VCALENDAR
VERSION:2.0
PRODID:-//ChamberMaster//Event Calendar 2.0//EN
METHOD:PUBLISH
X-PUBLISHED-TTL:P3D
REFRESH-INTERVAL:P3D
CALSCALE:GREGORIAN
BEGIN:VEVENT
DTSTART:20120129T003000Z
DTEND:20120129T020000Z
X-MICROSOFT-CDO-ALLDAYEVENT:FALSE
SUMMARY:The Theatre Guild of Rockingham County presents The Everlasting Improv Stopper
DESCRIPTION:This is a show similar to the televesion series "Whose LIne is it Anyway?".  It is a fundraiser for our upcoming production of "Willy Wonka and the Chocolate Factory."  All seats are $5 at the door and the seating is general admission.  It will be at 7:30 on Saturday\, January 28th in the Advanced Technologies building of Rockingham Commnunity College.
X-ALT-DESC;FMTTYPE=text/html:This is a show similar to the televesion series &quot\;Whose LIne is it Anyway?&quot\;. &nbsp\;It is a fundraiser for our upcoming production of &quot\;Willy Wonka and the Chocolate Factory.&quot\; &nbsp\;All seats are $5 at the door and the seating is general admission. &nbsp\;It will be at 7:30 on Saturday\, January 28th in the Advanced Technologies building of Rockingham Commnunity College.
LOCATION:Rockingham Community College Advanced Technologies Building
UID:e.111.2129
SEQUENCE:3
DTSTAMP:20260421T163641Z
URL:https://business.reidsvillechamber.org/events/details/the-theatre-guild-of-rockingham-county-presents-the-everlasting-improv-stopper-01-28-2012-2129
END:VEVENT

END:VCALENDAR
