BEGIN:VCALENDAR
VERSION:2.0
PRODID:-//ChamberMaster//Event Calendar 2.0//EN
METHOD:PUBLISH
X-PUBLISHED-TTL:P3D
REFRESH-INTERVAL:P3D
CALSCALE:GREGORIAN
BEGIN:VEVENT
DTSTART:20120617T183000Z
DTEND:20120617T203000Z
X-MICROSOFT-CDO-ALLDAYEVENT:FALSE
SUMMARY:The Theatre Guild of Rockingham County presents Willy Wonka
DESCRIPTION:The Theatre Guild of Rockingham County presents Willy Wonka based on Roald Dahl's timeless story of the world-famous candy man and his quest to find an heir comes to life in this stage adaptation of Charlie and the Chocolate Factory\, which features the songs from the classic family film Willy Wonka and the Chocolate Factory.
X-ALT-DESC;FMTTYPE=text/html:<span style="mso-bidi-font-weight: bold">The Theatre Guild of Rockingham County presents Willy Wonka based on Roald Dahl&rsquo\;s timeless story of the world-famous candy man and his quest to&nbsp\;find an heir comes to life in this stage adaptation of Charlie and the Chocolate&nbsp\;Factory\, which features the songs from the classic family film <i>Willy Wonka and&nbsp\;the Chocolate Factory</i>.</span>
LOCATION:Rockingham County High School
UID:e.111.2212
SEQUENCE:3
DTSTAMP:20260425T110838Z
URL:https://business.reidsvillechamber.org/events/details/the-theatre-guild-of-rockingham-county-presents-willy-wonka-06-17-2012-2212
END:VEVENT

END:VCALENDAR
