BEGIN:VCALENDAR
VERSION:2.0
PRODID:-//ChamberMaster//Event Calendar 2.0//EN
METHOD:PUBLISH
X-PUBLISHED-TTL:P3D
REFRESH-INTERVAL:P3D
CALSCALE:GREGORIAN
BEGIN:VEVENT
DTSTART:20110817T223000Z
DTEND:20110818T003000Z
X-MICROSOFT-CDO-ALLDAYEVENT:FALSE
SUMMARY:Theatre Guild of Rockingham County Auditons for Disney's Cinderella KIDS
DESCRIPTION:Auditions are open to all youth\, ages 4-18 and will be held in the Rockingham Community College Auditorium at 6:30.  If you are unable to make the scheduled audition\, please contact director Rose Wray at adirector@tgrc-nc.com to set up another  time.  Performances will be September 23-25\, 2011.  For more information\, please visit www.tgrc-nc.com
X-ALT-DESC;FMTTYPE=text/html:Auditions are open to all youth\, ages 4-18 and will be held in the Rockingham Community College Auditorium at 6:30.&nbsp\; If you are unable to make the scheduled audition\, please contact director Rose Wray at <a href="mailto:adirector@tgrc-nc.com">adirector@tgrc-nc.com</a> to set up another&nbsp\; time.&nbsp\; Performances will be September 23-25\, 2011.&nbsp\; For more information\, please visit <a href="http://www.tgrc-nc.com/">www.tgrc-nc.com</a> 
LOCATION:Rockingham Community College Auditorium
UID:e.111.1972
SEQUENCE:3
DTSTAMP:20260423T123424Z
URL:https://business.reidsvillechamber.org/events/details/theatre-guild-of-rockingham-county-auditons-for-disney-s-cinderella-kids-08-17-2011-1972
END:VEVENT

END:VCALENDAR
