BEGIN:VCALENDAR
VERSION:2.0
PRODID:-//ChamberMaster//Event Calendar 2.0//EN
METHOD:PUBLISH
X-PUBLISHED-TTL:P3D
REFRESH-INTERVAL:P3D
CALSCALE:GREGORIAN
BEGIN:VEVENT
DTSTART:20101113T230000Z
DTEND:20101114T030000Z
X-MICROSOFT-CDO-ALLDAYEVENT:FALSE
SUMMARY:Theatre Guild of Rockingham County Murder Mystery Dinner & Silent Auction
DESCRIPTION:The Theatre Guild is planning its first ever fundraising event. Our murder mystery dinner and silent auction will be held November 13\, 2010\, 6:00 PM\, at the Pennrose Park Country Club in Reidsville.  As a valued supporter of TGRC\, we are also asking for your assistance once again.  We would be most appreciative for the donation of an item of your choice for the silent auction.
X-ALT-DESC;FMTTYPE=text/html:The Theatre Guild is planning its first ever fundraising event. Our murder mystery dinner and silent auction will be held November 13\, 2010\, 6:00 PM\, at the Pennrose Park Country Club in Reidsville.  As a valued supporter of TGRC\, we are also asking for your assistance once again.  We would be most appreciative for the donation of an item of your choice for the silent auction. \n<br>\n<br>
LOCATION:Pennrose Park Country Club Reidsville\, NC 27320
UID:e.111.1526
SEQUENCE:3
DTSTAMP:20260424T023048Z
URL:https://business.reidsvillechamber.org/events/details/theatre-guild-of-rockingham-county-murder-mystery-dinner-silent-auction-11-13-2010-1526
END:VEVENT

END:VCALENDAR
