BEGIN:VCALENDAR
VERSION:2.0
PRODID:-//ChamberMaster//Event Calendar 2.0//EN
METHOD:PUBLISH
X-PUBLISHED-TTL:P3D
REFRESH-INTERVAL:P3D
CALSCALE:GREGORIAN
BEGIN:VEVENT
DTSTART;VALUE=DATE:20110924
DTEND;VALUE=DATE:20110925
TRANSP:TRANSPARENT
X-MICROSOFT-CDO-ALLDAYEVENT:TRUE
SUMMARY:Theatre Guild of Rockingham County presents Disney's Cinderella KIDS
DESCRIPTION:The Theatre Guild of Rockingham County will present Disney's Cinderella KIDS in three performances at the Rockingham Community College Auditorium.  Show times are 10:30\, 1:30\, and 6:30.  Tickets are $6.00 for all ages.  A High Noon Tea with Cinderella and her friends will be held at 12:00 and will include lunch\, 1 picture\, 1 craft\, and admission to the show of their choice that weekend.  The price for children is $15.00 per child and accompanying adults are $10.00 each.
X-ALT-DESC;FMTTYPE=text/html:<p>\n	The Theatre Guild of Rockingham County will present Disney&#39\;s Cinderella KIDS in three performances at the Rockingham Community College <span lang="EN" style="font-size: 9pt\; color: #222222\; font-family: arial\; mso-ansi-language: en">Auditorium.&nbsp\; Show times are 10:30\, 1:30\, and 6:30.&nbsp\; Tickets are $6.00 for all ages.&nbsp\; A High Noon Tea with Cinderella&nbsp\;and her friends&nbsp\;will be held at 12:00 and will include lunch\, 1 picture\, 1 craft\, and admission to the show of their choice that weekend.&nbsp\; The price for children is $15.00 per child and accompanying adults are $10.00 each.</span></p>\n
LOCATION:Rockingham Community College
UID:e.111.1966
SEQUENCE:3
DTSTAMP:20260423T104749Z
URL:https://business.reidsvillechamber.org/events/details/theatre-guild-of-rockingham-county-presents-disney-s-cinderella-kids-09-24-2011-1966
END:VEVENT

END:VCALENDAR
