BEGIN:VCALENDAR
VERSION:2.0
PRODID:-//ChamberMaster//Event Calendar 2.0//EN
METHOD:PUBLISH
X-PUBLISHED-TTL:P3D
REFRESH-INTERVAL:P3D
CALSCALE:GREGORIAN
BEGIN:VEVENT
DTSTART:20110925T183000Z
DTEND:20110925T193000Z
X-MICROSOFT-CDO-ALLDAYEVENT:FALSE
SUMMARY:Theatre Guild of Rockingham County presents Disney's Cinderella KIDS
DESCRIPTION:The Theatre Guild of Rockingham County will present Disney's Cinderella KIDS at the Rockingham Community College Auditorium.  Showtime is 2:30.  Tickets are $6.00 for all ages.
X-ALT-DESC;FMTTYPE=text/html:The Theatre Guild of Rockingham County will present Disney&#39\;s Cinderella KIDS at the Rockingham Community College <span lang="EN" style="font-size: 9pt\; color: #222222\; font-family: arial\; mso-ansi-language: en">Auditorium.&nbsp\; Showtime is 2:30.&nbsp\; Tickets are $6.00 for all ages.</span>
LOCATION:Rockingham Community College
UID:e.111.1967
SEQUENCE:3
DTSTAMP:20260423T104831Z
URL:https://business.reidsvillechamber.org/events/details/theatre-guild-of-rockingham-county-presents-disney-s-cinderella-kids-09-25-2011-1967
END:VEVENT

END:VCALENDAR
