BEGIN:VCALENDAR
VERSION:2.0
PRODID:-//ChamberMaster//Event Calendar 2.0//EN
METHOD:PUBLISH
X-PUBLISHED-TTL:P3D
REFRESH-INTERVAL:P3D
CALSCALE:GREGORIAN
BEGIN:VEVENT
DTSTART:20101204T003000Z
DTEND:20101205T230000Z
X-MICROSOFT-CDO-ALLDAYEVENT:FALSE
SUMMARY:Theatre Guild of Rockingham County presents "The Best Christmas Pageant Ever"
DESCRIPTION:The Herdmans show up at the church Christmas Pageant tryouts and everyone is horrified. Why? Because they are horrible children! They steal\, burn down buildings\, and terrorize the neighborhood. Students & families will love the story of how the Herdmans and their community learn to work together\, while learning the true meaning of Christmas.
X-ALT-DESC;FMTTYPE=text/html:The Herdmans show up at the church Christmas Pageant tryouts and everyone is horrified. Why? Because they are horrible children! They steal\, burn down buildings\, and terrorize the neighborhood. Students & families will love the story of how the Herdmans and their community learn to work together\, while learning the true meaning of Christmas.
LOCATION:Rockingham County Community College Auditorium Advanced Technologies Building Wentworth\, NC
UID:e.111.1522
SEQUENCE:3
DTSTAMP:20260424T004931Z
URL:https://business.reidsvillechamber.org/events/details/theatre-guild-of-rockingham-county-presents-the-best-christmas-pageant-ever-12-03-2010-1522
END:VEVENT

END:VCALENDAR
