BEGIN:VCALENDAR
VERSION:2.0
PRODID:-//ChamberMaster//Event Calendar 2.0//EN
METHOD:PUBLISH
X-PUBLISHED-TTL:P3D
REFRESH-INTERVAL:P3D
CALSCALE:GREGORIAN
BEGIN:VEVENT
DTSTART:20101008T233000Z
DTEND:20101017T183000Z
X-MICROSOFT-CDO-ALLDAYEVENT:FALSE
SUMMARY:Theatre Guild of Rockingham County presents "The Big Bad Musical"
DESCRIPTION:The jury\, played by the audience\, must decide the outcome of the biggest trial ever in the fairy-tale world! The notorious Big Bad Wolf is being slapped with a class-action lawsuit by storybooks of quirky characters who want to get even: Little Red Riding Hood\, her Grandmother\, the Three Little Pigs and the Shepherd in charge of the Boy Who Cried Wolf. With Sydney Grimm as the commentator on live Court TV\, the two greatest legal minds in the Enchanted Forest?the Evil Stepmother and the Fairy Godmother?clash in a trial that will be remembered forever after. Mr. Wolf makes a good case for himself. Was he born a criminal\, or made one?\n\n***Featuring our TGRC Youth Theatre ages 13-18
X-ALT-DESC;FMTTYPE=text/html:The jury\, played by the audience\, must decide the outcome of the biggest trial ever in the fairy-tale world! The notorious Big Bad Wolf is being slapped with a class-action lawsuit by storybooks of quirky characters who want to get even: Little Red Riding Hood\, her Grandmother\, the Three Little Pigs and the Shepherd in charge of the Boy Who Cried Wolf. With Sydney Grimm as the commentator on live Court TV\, the two greatest legal minds in the Enchanted Forest?the Evil Stepmother and the Fairy Godmother?clash in a trial that will be remembered forever after. Mr. Wolf makes a good case for himself. Was he born a criminal\, or made one?\n<br>***Featuring our TGRC Youth Theatre ages 13-18
LOCATION:Rockingham County Community College Auditorium Advanced Technologies Building Wentworth\, NC
UID:e.111.1523
SEQUENCE:3
DTSTAMP:20260424T040440Z
URL:https://business.reidsvillechamber.org/events/details/theatre-guild-of-rockingham-county-presents-the-big-bad-musical-10-08-2010-1523
END:VEVENT

END:VCALENDAR
