BEGIN:VCALENDAR
VERSION:2.0
PRODID:-//ChamberMaster//Event Calendar 2.0//EN
METHOD:PUBLISH
X-PUBLISHED-TTL:P3D
REFRESH-INTERVAL:P3D
CALSCALE:GREGORIAN
BEGIN:VEVENT
DTSTART:20110322T213000Z
DTEND:20110322T233000Z
X-MICROSOFT-CDO-ALLDAYEVENT:FALSE
SUMMARY:Tips & Strategies for Growing Fruitful Pecans
DESCRIPTION:Click Here to view Event Flyer!
X-ALT-DESC;FMTTYPE=text/html:<span style="font-size: 20px\;"><strong><a href="http://cloud.chambermaster.com/userfiles/UserFiles/chambers/111/File/Pecan%20Growing.pdf"><br />\nClick Here to view Event Flyer!</a></strong></span>
LOCATION:
UID:e.111.1606
SEQUENCE:3
DTSTAMP:20260423T195047Z
URL:https://business.reidsvillechamber.org/events/details/tips-strategies-for-growing-fruitful-pecans-03-22-2011-1606
END:VEVENT

END:VCALENDAR
