BEGIN:VCALENDAR
VERSION:2.0
PRODID:-//ChamberMaster//Event Calendar 2.0//EN
METHOD:PUBLISH
X-PUBLISHED-TTL:P3D
REFRESH-INTERVAL:P3D
CALSCALE:GREGORIAN
BEGIN:VEVENT
DTSTART:20110714T230000Z
DTEND:20110715T000000Z
X-MICROSOFT-CDO-ALLDAYEVENT:FALSE
SUMMARY:Total joint education
DESCRIPTION:This class meets from 7:00 pm-8:00 pm on the 2nd Thursday of each month\, in the Physical Therapy Area on the hospital's first floor.  Physical Therapists\, Nurses\, and Care Management provide demonstrations to patients who are considering\, or scheduling total knee or total hip replacements.  The July class will meet on Thursday\, July 14th.  For more information\, call 951-4357.
X-ALT-DESC;FMTTYPE=text/html:This class meets from 7:00 pm-8:00 pm on the 2nd Thursday of each month\, in the Physical Therapy Area on the hospital&#39\;s first floor.&nbsp\; Physical Therapists\, Nurses\, and Care Management provide demonstrations to patients who are considering\, or scheduling total knee or total hip replacements.&nbsp\; The July class will meet on Thursday\, July 14th.&nbsp\; For more information\, call 951-4357.
LOCATION:Annie Penn Hospital
UID:e.111.1954
SEQUENCE:3
DTSTAMP:20260423T134310Z
URL:https://business.reidsvillechamber.org/events/details/total-joint-education-07-14-2011-1954
END:VEVENT

END:VCALENDAR
