BEGIN:VCALENDAR
VERSION:2.0
PRODID:-//ChamberMaster//Event Calendar 2.0//EN
METHOD:PUBLISH
X-PUBLISHED-TTL:P3D
REFRESH-INTERVAL:P3D
CALSCALE:GREGORIAN
BEGIN:VEVENT
DTSTART;VALUE=DATE:20110531
DTEND;VALUE=DATE:20110601
TRANSP:TRANSPARENT
X-MICROSOFT-CDO-ALLDAYEVENT:TRUE
SUMMARY:Total Joint Education Class
DESCRIPTION:This class meets from 7:00pm-8:00pm\, the 2nd Thursday each month\, in the Physical Therapy area on the hospital's first floor.  Physical therapists\, nurses\, and care management professionals provide information and demonstrations to patients who are considering\, or scheduling total knee or total hip replacements.  The June class will meet on Thursday\, June 9.  For more information\, call 951-4357
X-ALT-DESC;FMTTYPE=text/html:This class meets from 7:00pm-8:00pm\, the 2nd Thursday each month\, in the Physical Therapy area on the hospital&#39\;s first floor.&nbsp\; Physical therapists\, nurses\, and care management professionals provide information and demonstrations to patients who are considering\, or scheduling total knee or total hip replacements.&nbsp\; The June class will meet on Thursday\, June 9.&nbsp\; For more information\, call 951-4357
LOCATION:
UID:e.111.1936
SEQUENCE:3
DTSTAMP:20260423T165939Z
URL:https://business.reidsvillechamber.org/events/details/total-joint-education-class-05-31-2011-1936
END:VEVENT

END:VCALENDAR
