BEGIN:VCALENDAR
VERSION:2.0
PRODID:-//ChamberMaster//Event Calendar 2.0//EN
METHOD:PUBLISH
X-PUBLISHED-TTL:P3D
REFRESH-INTERVAL:P3D
CALSCALE:GREGORIAN
BEGIN:VEVENT
DTSTART:20110811T230000Z
DTEND:20110812T000000Z
X-MICROSOFT-CDO-ALLDAYEVENT:FALSE
SUMMARY:Total Joint Education Class
DESCRIPTION:This class meets from 7:00 pm.-8:00 pm\, the 2nd Thursday of each month\, in the Physical Therapy Area on the hospital's first floor. Physical therapists\, nurses\, and care management professionals provide information and demonstrations to patients who are considering\, or scheduling total knee or total hip replacements. The August class will meet on Thursday\, August 11th. For more information\, call 951-4357.
X-ALT-DESC;FMTTYPE=text/html:<font color="#000000"><font face="Times New Roman"><span style="font-size: 11pt\; font-family: calibri\; mso-bidi-font-size: 10.0pt\; mso-fareast-font-family: 'times new roman'\; mso-bidi-font-family: 'times new roman'\; mso-ansi-language: en-us\; mso-fareast-language: en-us\; mso-bidi-language: ar-sa\; mso-bidi-font-weight: bold">This class meets from 7:00 pm.-8:00 pm\, the 2<sup>nd</sup> Thursday of each month\, in the Physical Therapy Area on the hospital&rsquo\;s first floor. Physical therapists\, nurses\, and care management professionals provide information and demonstrations to patients who are considering\, or scheduling total knee or total hip replacements. The August class will meet on </span><b style="mso-bidi-font-weight: normal"><span style="font-size: 11pt\; font-family: calibri\; mso-bidi-font-size: 10.0pt\; mso-fareast-font-family: 'times new roman'\; mso-bidi-font-family: 'times new roman'\; mso-ansi-language: en-us\; mso-fareast-language: en-us\; mso-bidi-language: ar-sa">Thursday\, August 11th</span></b><span style="font-size: 11pt\; font-family: calibri\; mso-bidi-font-size: 10.0pt\; mso-fareast-font-family: 'times new roman'\; mso-bidi-font-family: 'times new roman'\; mso-ansi-language: en-us\; mso-fareast-language: en-us\; mso-bidi-language: ar-sa\; mso-bidi-font-weight: bold">. For more information\, call 951-4357.<span style="mso-spacerun: yes">&nbsp\; </span></span></font></font>
LOCATION:Annie Penn Hospital
UID:e.111.1964
SEQUENCE:3
DTSTAMP:20260423T122622Z
URL:https://business.reidsvillechamber.org/events/details/total-joint-education-class-08-11-2011-1964
END:VEVENT

END:VCALENDAR
