BEGIN:VCALENDAR
VERSION:2.0
PRODID:-//ChamberMaster//Event Calendar 2.0//EN
METHOD:PUBLISH
X-PUBLISHED-TTL:P3D
REFRESH-INTERVAL:P3D
CALSCALE:GREGORIAN
BEGIN:VEVENT
DTSTART:20110908T230000Z
DTEND:20110909T000000Z
X-MICROSOFT-CDO-ALLDAYEVENT:FALSE
SUMMARY:Total Joint Education Class
DESCRIPTION:This educational session meets from 7:00 p.m. to 8:00 p.m.\, the 2nd Thursday of each month in the physical therapy area on the hospital's first floor. Physical therapists\, nurses\, and care management professionals provide information and demonstrations to patients who are considering\, or scheduling total knee or total hip replacements. The September class will meet on Thursday\, September 8th. For more information\, call 951-4357.
X-ALT-DESC;FMTTYPE=text/html:<font color="#000000"><font face="Times New Roman"><span style="font-size: 12pt\; font-family: calibri\; mso-fareast-font-family: 'times new roman'\; mso-bidi-font-family: 'times new roman'\; mso-ansi-language: en-us\; mso-fareast-language: en-us\; mso-bidi-language: ar-sa\; mso-bidi-font-weight: bold">This educational session meets from 7:00 p.m. to 8:00 p.m.\, the 2<sup>nd</sup> Thursday of each month in the physical therapy area on the hospital&rsquo\;s first floor. Physical therapists\, nurses\, and care management professionals provide information and demonstrations to patients who are considering\, or scheduling total knee or total hip replacements. The September class will meet on </span><b style="mso-bidi-font-weight: normal"><span style="font-size: 12pt\; font-family: calibri\; mso-fareast-font-family: 'times new roman'\; mso-bidi-font-family: 'times new roman'\; mso-ansi-language: en-us\; mso-fareast-language: en-us\; mso-bidi-language: ar-sa">Thursday\, September 8th</span></b><span style="font-size: 12pt\; font-family: calibri\; mso-fareast-font-family: 'times new roman'\; mso-bidi-font-family: 'times new roman'\; mso-ansi-language: en-us\; mso-fareast-language: en-us\; mso-bidi-language: ar-sa\; mso-bidi-font-weight: bold">. For more information\, call 951-4357.<span style="mso-spacerun: yes">&nbsp\; </span></span></font></font>
LOCATION:Annie Penn Hosptial
UID:e.111.1983
SEQUENCE:3
DTSTAMP:20260423T100621Z
URL:https://business.reidsvillechamber.org/events/details/total-joint-education-class-09-08-2011-1983
END:VEVENT

END:VCALENDAR
